BEGIN:VCALENDAR
VERSION:2.0
PRODID:-//Belmont Primary School - ECPv6.15.13//NONSGML v1.0//EN
CALSCALE:GREGORIAN
METHOD:PUBLISH
X-WR-CALNAME:Belmont Primary School
X-ORIGINAL-URL:https://belmontprimaryschool.org.uk
X-WR-CALDESC:Events for Belmont Primary School
REFRESH-INTERVAL;VALUE=DURATION:PT1H
X-Robots-Tag:noindex
X-PUBLISHED-TTL:PT1H
BEGIN:VTIMEZONE
TZID:Europe/London
BEGIN:DAYLIGHT
TZOFFSETFROM:+0000
TZOFFSETTO:+0100
TZNAME:BST
DTSTART:20250330T010000
END:DAYLIGHT
BEGIN:STANDARD
TZOFFSETFROM:+0100
TZOFFSETTO:+0000
TZNAME:GMT
DTSTART:20251026T010000
END:STANDARD
BEGIN:DAYLIGHT
TZOFFSETFROM:+0000
TZOFFSETTO:+0100
TZNAME:BST
DTSTART:20260329T010000
END:DAYLIGHT
BEGIN:STANDARD
TZOFFSETFROM:+0100
TZOFFSETTO:+0000
TZNAME:GMT
DTSTART:20261025T010000
END:STANDARD
BEGIN:DAYLIGHT
TZOFFSETFROM:+0000
TZOFFSETTO:+0100
TZNAME:BST
DTSTART:20270328T010000
END:DAYLIGHT
BEGIN:STANDARD
TZOFFSETFROM:+0100
TZOFFSETTO:+0000
TZNAME:GMT
DTSTART:20271031T010000
END:STANDARD
END:VTIMEZONE
BEGIN:VEVENT
DTSTART;TZID=Europe/London:20260501T153000
DTEND;TZID=Europe/London:20260501T163000
DTSTAMP:20260423T194234
CREATED:20250909T120720Z
LAST-MODIFIED:20250919T135718Z
UID:3162-1777649400-1777653000@belmontprimaryschool.org.uk
SUMMARY:PTA Year 1 Bake Sale
DESCRIPTION:
URL:https://belmontprimaryschool.org.uk/school-events/movie-night-y4-y5-y6/
END:VEVENT
BEGIN:VEVENT
DTSTART;VALUE=DATE:20260504
DTEND;VALUE=DATE:20260505
DTSTAMP:20260423T194234
CREATED:20250722T112009Z
LAST-MODIFIED:20250722T112009Z
UID:2503-1777852800-1777939199@belmontprimaryschool.org.uk
SUMMARY:Bank Holiday
DESCRIPTION:
URL:https://belmontprimaryschool.org.uk/school-events/bank-holiday/
END:VEVENT
BEGIN:VEVENT
DTSTART;TZID=Europe/London:20260511T080000
DTEND;TZID=Europe/London:20260515T170000
DTSTAMP:20260423T194234
CREATED:20250722T111751Z
LAST-MODIFIED:20260416T094126Z
UID:2497-1778486400-1778864400@belmontprimaryschool.org.uk
SUMMARY:Y6 SATS- No music lessons
DESCRIPTION:
URL:https://belmontprimaryschool.org.uk/school-events/y6-sats-no-am-clubs-music-lessons/
END:VEVENT
BEGIN:VEVENT
DTSTART;TZID=Europe/London:20260517T100000
DTEND;TZID=Europe/London:20260517T140000
DTSTAMP:20260423T194234
CREATED:20250909T121352Z
LAST-MODIFIED:20250909T121352Z
UID:3167-1779012000-1779026400@belmontprimaryschool.org.uk
SUMMARY:Beautify Belmont
DESCRIPTION:
URL:https://belmontprimaryschool.org.uk/school-events/beautify-belmont/
END:VEVENT
BEGIN:VEVENT
DTSTART;TZID=Europe/London:20260518T080000
DTEND;TZID=Europe/London:20260522T170000
DTSTAMP:20260423T194234
CREATED:20250722T111836Z
LAST-MODIFIED:20250722T111836Z
UID:2499-1779091200-1779469200@belmontprimaryschool.org.uk
SUMMARY:Y6 PGL
DESCRIPTION:
URL:https://belmontprimaryschool.org.uk/school-events/y6-pgl/
END:VEVENT
BEGIN:VEVENT
DTSTART;TZID=Europe/London:20260522T153000
DTEND;TZID=Europe/London:20260522T163000
DTSTAMP:20260423T194234
CREATED:20250909T122029Z
LAST-MODIFIED:20250919T135548Z
UID:3172-1779463800-1779467400@belmontprimaryschool.org.uk
SUMMARY:PTA Reception Bake Sale
DESCRIPTION:
URL:https://belmontprimaryschool.org.uk/school-events/reception-bake-sale-2/
END:VEVENT
BEGIN:VEVENT
DTSTART;VALUE=DATE:20260525
DTEND;VALUE=DATE:20260530
DTSTAMP:20260423T194234
CREATED:20250722T111936Z
LAST-MODIFIED:20250722T111936Z
UID:2501-1779667200-1780099199@belmontprimaryschool.org.uk
SUMMARY:Half Term
DESCRIPTION:
URL:https://belmontprimaryschool.org.uk/school-events/half-term-4/
END:VEVENT
END:VCALENDAR