BEGIN:VCALENDAR
VERSION:2.0
PRODID:-//Belmont Primary School - ECPv6.15.13//NONSGML v1.0//EN
CALSCALE:GREGORIAN
METHOD:PUBLISH
X-ORIGINAL-URL:https://belmontprimaryschool.org.uk
X-WR-CALDESC:Events for Belmont Primary School
REFRESH-INTERVAL;VALUE=DURATION:PT1H
X-Robots-Tag:noindex
X-PUBLISHED-TTL:PT1H
BEGIN:VTIMEZONE
TZID:Europe/London
BEGIN:DAYLIGHT
TZOFFSETFROM:+0000
TZOFFSETTO:+0100
TZNAME:BST
DTSTART:20250330T010000
END:DAYLIGHT
BEGIN:STANDARD
TZOFFSETFROM:+0100
TZOFFSETTO:+0000
TZNAME:GMT
DTSTART:20251026T010000
END:STANDARD
BEGIN:DAYLIGHT
TZOFFSETFROM:+0000
TZOFFSETTO:+0100
TZNAME:BST
DTSTART:20260329T010000
END:DAYLIGHT
BEGIN:STANDARD
TZOFFSETFROM:+0100
TZOFFSETTO:+0000
TZNAME:GMT
DTSTART:20261025T010000
END:STANDARD
BEGIN:DAYLIGHT
TZOFFSETFROM:+0000
TZOFFSETTO:+0100
TZNAME:BST
DTSTART:20270328T010000
END:DAYLIGHT
BEGIN:STANDARD
TZOFFSETFROM:+0100
TZOFFSETTO:+0000
TZNAME:GMT
DTSTART:20271031T010000
END:STANDARD
END:VTIMEZONE
BEGIN:VEVENT
DTSTART;TZID=Europe/London:20260610T140000
DTEND;TZID=Europe/London:20260610T150000
DTSTAMP:20260424T001451
CREATED:20250722T112942Z
LAST-MODIFIED:20250722T112942Z
UID:2515-1781100000-1781103600@belmontprimaryschool.org.uk
SUMMARY:Y4 presentations PM
DESCRIPTION:
URL:https://belmontprimaryschool.org.uk/school-events/y4-presentations-pm/
END:VEVENT
BEGIN:VEVENT
DTSTART;TZID=Europe/London:20260611T093000
DTEND;TZID=Europe/London:20260611T103000
DTSTAMP:20260424T001451
CREATED:20250722T113044Z
LAST-MODIFIED:20250722T113044Z
UID:2517-1781170200-1781173800@belmontprimaryschool.org.uk
SUMMARY:Y4 presentations AM
DESCRIPTION:
URL:https://belmontprimaryschool.org.uk/school-events/y4-presentations-am/
END:VEVENT
BEGIN:VEVENT
DTSTART;TZID=Europe/London:20260615T080000
DTEND;TZID=Europe/London:20260619T170000
DTSTAMP:20260424T001451
CREATED:20250722T113509Z
LAST-MODIFIED:20250722T113509Z
UID:2519-1781510400-1781888400@belmontprimaryschool.org.uk
SUMMARY:Heath & Wellbeing Week
DESCRIPTION:
URL:https://belmontprimaryschool.org.uk/school-events/heath-wellbeing-week/
END:VEVENT
BEGIN:VEVENT
DTSTART;TZID=Europe/London:20260617T080000
DTEND;TZID=Europe/London:20260617T170000
DTSTAMP:20260424T001451
CREATED:20250722T113545Z
LAST-MODIFIED:20250722T113545Z
UID:2521-1781683200-1781715600@belmontprimaryschool.org.uk
SUMMARY:Sports Day
DESCRIPTION:
URL:https://belmontprimaryschool.org.uk/school-events/sports-day/
END:VEVENT
BEGIN:VEVENT
DTSTART;TZID=Europe/London:20260617T153000
DTEND;TZID=Europe/London:20260617T163000
DTSTAMP:20260424T001451
CREATED:20250909T122248Z
LAST-MODIFIED:20260216T114456Z
UID:3178-1781710200-1781713800@belmontprimaryschool.org.uk
SUMMARY:PTA Ice Lolly Day
DESCRIPTION:
URL:https://belmontprimaryschool.org.uk/school-events/ice-lolly-day/
END:VEVENT
BEGIN:VEVENT
DTSTART;TZID=Europe/London:20260620T110000
DTEND;TZID=Europe/London:20260620T150000
DTSTAMP:20260424T001451
CREATED:20250909T122119Z
LAST-MODIFIED:20250909T122119Z
UID:3174-1781953200-1781967600@belmontprimaryschool.org.uk
SUMMARY:Belmont Summer Fair
DESCRIPTION:
URL:https://belmontprimaryschool.org.uk/school-events/belmont-summer-fair/
END:VEVENT
BEGIN:VEVENT
DTSTART;TZID=Europe/London:20260624T140000
DTEND;TZID=Europe/London:20260624T150000
DTSTAMP:20260424T001451
CREATED:20250722T113731Z
LAST-MODIFIED:20250722T113731Z
UID:2523-1782309600-1782313200@belmontprimaryschool.org.uk
SUMMARY:Y3 presentation PM
DESCRIPTION:
URL:https://belmontprimaryschool.org.uk/school-events/y3-presentation-pm/
END:VEVENT
BEGIN:VEVENT
DTSTART;TZID=Europe/London:20260625T093000
DTEND;TZID=Europe/London:20260625T103000
DTSTAMP:20260424T001451
CREATED:20250722T113807Z
LAST-MODIFIED:20250722T113807Z
UID:2525-1782379800-1782383400@belmontprimaryschool.org.uk
SUMMARY:Y3 presentation AM
DESCRIPTION:
URL:https://belmontprimaryschool.org.uk/school-events/y3-presentation-am/
END:VEVENT
BEGIN:VEVENT
DTSTART;TZID=Europe/London:20260630T080000
DTEND;TZID=Europe/London:20260630T170000
DTSTAMP:20260424T001451
CREATED:20250722T113852Z
LAST-MODIFIED:20250722T113852Z
UID:2527-1782806400-1782838800@belmontprimaryschool.org.uk
SUMMARY:Reports sent via MCAS
DESCRIPTION:
URL:https://belmontprimaryschool.org.uk/school-events/reports-sent-via-mcas/
END:VEVENT
END:VCALENDAR